BEGIN:VCALENDAR
VERSION:2.0
PRODID:-//Connect Thru Cancer - ECPv6.15.20//NONSGML v1.0//EN
CALSCALE:GREGORIAN
METHOD:PUBLISH
X-WR-CALNAME:Connect Thru Cancer
X-ORIGINAL-URL:https://connectthrucancer.org
X-WR-CALDESC:Events for Connect Thru Cancer
REFRESH-INTERVAL;VALUE=DURATION:PT1H
X-Robots-Tag:noindex
X-PUBLISHED-TTL:PT1H
BEGIN:VTIMEZONE
TZID:America/New_York
BEGIN:DAYLIGHT
TZOFFSETFROM:-0500
TZOFFSETTO:-0400
TZNAME:EDT
DTSTART:20240310T070000
END:DAYLIGHT
BEGIN:STANDARD
TZOFFSETFROM:-0400
TZOFFSETTO:-0500
TZNAME:EST
DTSTART:20241103T060000
END:STANDARD
BEGIN:DAYLIGHT
TZOFFSETFROM:-0500
TZOFFSETTO:-0400
TZNAME:EDT
DTSTART:20250309T070000
END:DAYLIGHT
BEGIN:STANDARD
TZOFFSETFROM:-0400
TZOFFSETTO:-0500
TZNAME:EST
DTSTART:20251102T060000
END:STANDARD
BEGIN:DAYLIGHT
TZOFFSETFROM:-0500
TZOFFSETTO:-0400
TZNAME:EDT
DTSTART:20260308T070000
END:DAYLIGHT
BEGIN:STANDARD
TZOFFSETFROM:-0400
TZOFFSETTO:-0500
TZNAME:EST
DTSTART:20261101T060000
END:STANDARD
END:VTIMEZONE
BEGIN:VEVENT
DTSTART;TZID=America/New_York:20250309T113000
DTEND;TZID=America/New_York:20250309T133000
DTSTAMP:20260424T105141
CREATED:20250210T164337Z
LAST-MODIFIED:20250210T164337Z
UID:4098-1741519800-1741527000@connectthrucancer.org
SUMMARY:St. Patrick's Day Cookie Decorating Cancer Connect
DESCRIPTION:We are getting ready to celebrate St. Patrick’s Day! Join us on Sunday\, March 9th for a cookie decorating activity. Wear your green as we get together to create amazing cookies with a St. Paddy’s Day theme! \nSpace is limited and registration is required so save your spot today! \nCookie Decorating Registration \n 
URL:https://connectthrucancer.org/event/st-patricks-day-cookie-decorating-cancer-connect/
LOCATION:Hartshorne Mansion\, 535 N. Church Street\, West Chester\, PA\, 19380\, United States
ATTACH;FMTTYPE=image/png:https://connectthrucancer.org/wp-content/uploads/2025/02/Green-Modern-St.-Patricks-Day-Party-Invitation-2.png
END:VEVENT
END:VCALENDAR