BEGIN:VCALENDAR
VERSION:2.0
PRODID:-//Connect Thru Cancer - ECPv6.15.20//NONSGML v1.0//EN
CALSCALE:GREGORIAN
METHOD:PUBLISH
X-WR-CALNAME:Connect Thru Cancer
X-ORIGINAL-URL:https://connectthrucancer.org
X-WR-CALDESC:Events for Connect Thru Cancer
REFRESH-INTERVAL;VALUE=DURATION:PT1H
X-Robots-Tag:noindex
X-PUBLISHED-TTL:PT1H
BEGIN:VTIMEZONE
TZID:America/New_York
BEGIN:DAYLIGHT
TZOFFSETFROM:-0500
TZOFFSETTO:-0400
TZNAME:EDT
DTSTART:20240310T070000
END:DAYLIGHT
BEGIN:STANDARD
TZOFFSETFROM:-0400
TZOFFSETTO:-0500
TZNAME:EST
DTSTART:20241103T060000
END:STANDARD
BEGIN:DAYLIGHT
TZOFFSETFROM:-0500
TZOFFSETTO:-0400
TZNAME:EDT
DTSTART:20250309T070000
END:DAYLIGHT
BEGIN:STANDARD
TZOFFSETFROM:-0400
TZOFFSETTO:-0500
TZNAME:EST
DTSTART:20251102T060000
END:STANDARD
BEGIN:DAYLIGHT
TZOFFSETFROM:-0500
TZOFFSETTO:-0400
TZNAME:EDT
DTSTART:20260308T070000
END:DAYLIGHT
BEGIN:STANDARD
TZOFFSETFROM:-0400
TZOFFSETTO:-0500
TZNAME:EST
DTSTART:20261101T060000
END:STANDARD
END:VTIMEZONE
BEGIN:VEVENT
DTSTART;TZID=America/New_York:20250814T183000
DTEND;TZID=America/New_York:20250814T200000
DTSTAMP:20260423T054733
CREATED:20250603T150516Z
LAST-MODIFIED:20250603T150947Z
UID:4208-1755196200-1755201600@connectthrucancer.org
SUMMARY:CTC Mini Golf & Ice Cream Cancer Connect August
DESCRIPTION:Join CTC for a fun evening of Mini Golf and Ice Cream at our Cancer Connect on Thursday\, August 14th. Bring the whole family and create some fun memories at this free event! Pre-registration required and limited space available. \nRegistration Link
URL:https://connectthrucancer.org/event/ctc-mini-golf-ice-cream-cancer-connect-august/
LOCATION:Markie’s Mini Golf\, 360 Schuykill Road\, Phoenixville\, PA\, 19460
ATTACH;FMTTYPE=image/png:https://connectthrucancer.org/wp-content/uploads/2025/06/Mini-Golf-Aug-14.png
END:VEVENT
END:VCALENDAR