BEGIN:VCALENDAR
VERSION:2.0
PRODID:-//Connect Thru Cancer - ECPv6.15.20//NONSGML v1.0//EN
CALSCALE:GREGORIAN
METHOD:PUBLISH
X-WR-CALNAME:Connect Thru Cancer
X-ORIGINAL-URL:https://connectthrucancer.org
X-WR-CALDESC:Events for Connect Thru Cancer
REFRESH-INTERVAL;VALUE=DURATION:PT1H
X-Robots-Tag:noindex
X-PUBLISHED-TTL:PT1H
BEGIN:VTIMEZONE
TZID:America/New_York
BEGIN:DAYLIGHT
TZOFFSETFROM:-0500
TZOFFSETTO:-0400
TZNAME:EDT
DTSTART:20240310T070000
END:DAYLIGHT
BEGIN:STANDARD
TZOFFSETFROM:-0400
TZOFFSETTO:-0500
TZNAME:EST
DTSTART:20241103T060000
END:STANDARD
BEGIN:DAYLIGHT
TZOFFSETFROM:-0500
TZOFFSETTO:-0400
TZNAME:EDT
DTSTART:20250309T070000
END:DAYLIGHT
BEGIN:STANDARD
TZOFFSETFROM:-0400
TZOFFSETTO:-0500
TZNAME:EST
DTSTART:20251102T060000
END:STANDARD
BEGIN:DAYLIGHT
TZOFFSETFROM:-0500
TZOFFSETTO:-0400
TZNAME:EDT
DTSTART:20260308T070000
END:DAYLIGHT
BEGIN:STANDARD
TZOFFSETFROM:-0400
TZOFFSETTO:-0500
TZNAME:EST
DTSTART:20261101T060000
END:STANDARD
END:VTIMEZONE
BEGIN:VEVENT
DTSTART;TZID=America/New_York:20250610T100000
DTEND;TZID=America/New_York:20250610T113000
DTSTAMP:20260424T075306
CREATED:20250609T155922Z
LAST-MODIFIED:20250609T155922Z
UID:4219-1749549600-1749555000@connectthrucancer.org
SUMMARY:Common Grounds
DESCRIPTION:We’re excited to host our very first Common Grounds event – a special gathering designed to bring together local nonprofit professionals for a morning of connection\, collaboration\, and community-building through meaningful conversation with fellow leaders who are working to make a difference. Our goal is to unite the local cancer support community to provide the best circle of care for patients and their families throughout treatment and beyond.
URL:https://connectthrucancer.org/event/common-grounds/
LOCATION:535 N. Church Street\, West Chester\, PA\, 19380\, United States
ATTACH;FMTTYPE=image/jpeg:https://connectthrucancer.org/wp-content/uploads/2025/06/Common-Grounds-flyer-invite-2.jpg
END:VEVENT
END:VCALENDAR