BEGIN:VCALENDAR
VERSION:2.0
PRODID:-//Connect Thru Cancer - ECPv6.15.20//NONSGML v1.0//EN
CALSCALE:GREGORIAN
METHOD:PUBLISH
X-ORIGINAL-URL:https://connectthrucancer.org
X-WR-CALDESC:Events for Connect Thru Cancer
REFRESH-INTERVAL;VALUE=DURATION:PT1H
X-Robots-Tag:noindex
X-PUBLISHED-TTL:PT1H
BEGIN:VTIMEZONE
TZID:America/New_York
BEGIN:DAYLIGHT
TZOFFSETFROM:-0500
TZOFFSETTO:-0400
TZNAME:EDT
DTSTART:20240310T070000
END:DAYLIGHT
BEGIN:STANDARD
TZOFFSETFROM:-0400
TZOFFSETTO:-0500
TZNAME:EST
DTSTART:20241103T060000
END:STANDARD
BEGIN:DAYLIGHT
TZOFFSETFROM:-0500
TZOFFSETTO:-0400
TZNAME:EDT
DTSTART:20250309T070000
END:DAYLIGHT
BEGIN:STANDARD
TZOFFSETFROM:-0400
TZOFFSETTO:-0500
TZNAME:EST
DTSTART:20251102T060000
END:STANDARD
BEGIN:DAYLIGHT
TZOFFSETFROM:-0500
TZOFFSETTO:-0400
TZNAME:EDT
DTSTART:20260308T070000
END:DAYLIGHT
BEGIN:STANDARD
TZOFFSETFROM:-0400
TZOFFSETTO:-0500
TZNAME:EST
DTSTART:20261101T060000
END:STANDARD
END:VTIMEZONE
BEGIN:VEVENT
DTSTART;TZID=America/New_York:20250424T180000
DTEND;TZID=America/New_York:20250424T193000
DTSTAMP:20260424T105228
CREATED:20250317T141111Z
LAST-MODIFIED:20250317T141111Z
UID:4114-1745517600-1745523000@connectthrucancer.org
SUMMARY:Cammie Hall Sanders Memorial Scholarship Reception
DESCRIPTION:We will be holding a very special evening at the Hartshorne Mansion as we present the second annual Cammie Hall Sanders Memorial Scholarship Award to this year’s deserving recipient!
URL:https://connectthrucancer.org/event/cammie-hall-sanders-memorial-scholarship-reception/
ATTACH;FMTTYPE=image/png:https://connectthrucancer.org/wp-content/uploads/2023/10/Untitled-design-52.png
END:VEVENT
END:VCALENDAR