BEGIN:VCALENDAR
VERSION:2.0
PRODID:-//Connect Thru Cancer - ECPv6.15.20//NONSGML v1.0//EN
CALSCALE:GREGORIAN
METHOD:PUBLISH
X-ORIGINAL-URL:https://connectthrucancer.org
X-WR-CALDESC:Events for Connect Thru Cancer
REFRESH-INTERVAL;VALUE=DURATION:PT1H
X-Robots-Tag:noindex
X-PUBLISHED-TTL:PT1H
BEGIN:VTIMEZONE
TZID:America/New_York
BEGIN:DAYLIGHT
TZOFFSETFROM:-0500
TZOFFSETTO:-0400
TZNAME:EDT
DTSTART:20240310T070000
END:DAYLIGHT
BEGIN:STANDARD
TZOFFSETFROM:-0400
TZOFFSETTO:-0500
TZNAME:EST
DTSTART:20241103T060000
END:STANDARD
BEGIN:DAYLIGHT
TZOFFSETFROM:-0500
TZOFFSETTO:-0400
TZNAME:EDT
DTSTART:20250309T070000
END:DAYLIGHT
BEGIN:STANDARD
TZOFFSETFROM:-0400
TZOFFSETTO:-0500
TZNAME:EST
DTSTART:20251102T060000
END:STANDARD
BEGIN:DAYLIGHT
TZOFFSETFROM:-0500
TZOFFSETTO:-0400
TZNAME:EDT
DTSTART:20260308T070000
END:DAYLIGHT
BEGIN:STANDARD
TZOFFSETFROM:-0400
TZOFFSETTO:-0500
TZNAME:EST
DTSTART:20261101T060000
END:STANDARD
END:VTIMEZONE
BEGIN:VEVENT
DTSTART;TZID=America/New_York:20250406T110000
DTEND;TZID=America/New_York:20250406T130000
DTSTAMP:20260424T105139
CREATED:20250210T184009Z
LAST-MODIFIED:20250223T230616Z
UID:4101-1743937200-1743944400@connectthrucancer.org
SUMMARY:Pottery Painting Party
DESCRIPTION:Join CTC at our April Cancer Connect as we enjoy family connections and painting pottery at The Painted Plate in West Chester. Pre-Registration is required and limited space is available\, so register early! For more information and to register\, click the link below: \nPottery Painting Party Registration
URL:https://connectthrucancer.org/event/pottery-painting-party-2/
LOCATION:The Painted Plate\, 104 Market St\, West Chester\, PA\, 19382\, United States
ATTACH;FMTTYPE=image/png:https://connectthrucancer.org/wp-content/uploads/2025/02/White-Minimalist-Indian-Pottery-Workshop-Instagram-Post-3-1.png
END:VEVENT
END:VCALENDAR